BEGIN:VCALENDAR
VERSION:2.0
CALSCALE:GREGORIAN
BEGIN:VEVENT
DTSTAMP:20260421T132626
DTSTART:20260724T183000
DTEND:20260724T200000
SUMMARY:Rum For All And All For Rum!
DESCRIPTION:Event Info: https://www.localwineevents.com/view/event/rum-for-all-and-all-for-rum/996874
LOCATION:Total Wine  More | Totowa Square -- 465 US HWY 46 Totowa, New Jersey 07512
STATUS:CONFIRMED
SEQUENCE:0
TRANSP:OPAQUE
END:VEVENT
END:VCALENDAR
