BEGIN:VCALENDAR
VERSION:2.0
CALSCALE:GREGORIAN
BEGIN:VEVENT
DTSTAMP:20260421T183139
DTSTART:20260723T180000
DTEND:20260723T193000
SUMMARY:Rum For All And All For Rum!
DESCRIPTION:Event Info: https://www.localwineevents.com/view/event/rum-for-all-and-all-for-rum/996730
LOCATION:Total Wine  More | Preston Village Shopping Center -- 8700 Preston Rd Ste113 Plano, Texas 75024
STATUS:CONFIRMED
SEQUENCE:0
TRANSP:OPAQUE
END:VEVENT
END:VCALENDAR
