BEGIN:VCALENDAR
VERSION:2.0
CALSCALE:GREGORIAN
BEGIN:VEVENT
DTSTAMP:20260420T175608
DTSTART:20260426T170000
DTEND:20260426T190000
SUMMARY:Francs  Fur-iends - Wine4Paws Event
DESCRIPTION:Event Info: https://www.localwineevents.com/view/event/francs-fur-iends---wine4paws-event/996140
LOCATION:Dracaena Wines -- 1244 Pine St Paso Robles, CA 93446
STATUS:CONFIRMED
SEQUENCE:0
TRANSP:OPAQUE
END:VEVENT
END:VCALENDAR
