BEGIN:VCALENDAR
VERSION:2.0
CALSCALE:GREGORIAN
BEGIN:VEVENT
DTSTAMP:20260420T175543
DTSTART:20260606T140000
DTEND:20260606T170000
SUMMARY:SLO Wine Mixer
DESCRIPTION:Event Info: https://www.localwineevents.com/view/event/slo-wine-mixer/996124
LOCATION:Alex Madonna Expo Center -- 100 Madonna Rd San Luis Obispo, California 93405
STATUS:CONFIRMED
SEQUENCE:0
TRANSP:OPAQUE
END:VEVENT
END:VCALENDAR
