BEGIN:VCALENDAR
VERSION:2.0
CALSCALE:GREGORIAN
BEGIN:VEVENT
DTSTAMP:20260421T184211
DTSTART:20260605T190000
DTEND:20260605T200000
SUMMARY:Hector Herrera Bottle Signing And Meet  Greet
DESCRIPTION:Event Info: https://www.localwineevents.com/view/event/hector-herrera-bottle-signing-and-meet-greet/995366
LOCATION:Total Wine  More | The Highlands Shopping Center -- 981 Interstate 20 W. Arlington, Texas 76017
STATUS:CONFIRMED
SEQUENCE:0
TRANSP:OPAQUE
END:VEVENT
END:VCALENDAR
