BEGIN:VCALENDAR
VERSION:2.0
CALSCALE:GREGORIAN
BEGIN:VEVENT
DTSTAMP:20260422T163924
DTSTART:20260430T180000
DTEND:20260430T200000
SUMMARY:Going In Blind - Our Wine Sampling Challenge
DESCRIPTION:Event Info: https://www.localwineevents.com/view/event/going-in-blind---our-wine-sampling-challenge/995350
LOCATION:Total Wine  More | North Hills -- 4421 Six Forks Road Suite 111 Raleigh, North Carolina 27609
STATUS:CONFIRMED
SEQUENCE:0
TRANSP:OPAQUE
END:VEVENT
END:VCALENDAR
