BEGIN:VCALENDAR
VERSION:2.0
CALSCALE:GREGORIAN
BEGIN:VEVENT
DTSTAMP:20260419T100904
DTSTART:20260419T153000
DTEND:20260419T173000
SUMMARY:Gems Of Scotland With Ian Macleod Distillers
DESCRIPTION:Event Info: https://www.localwineevents.com/view/event/gems-of-scotland-with-ian-macleod-distillers/994248
LOCATION:Total Wine  More | Ivory Plaza -- 180 Pearl Street Braintree, Massachusetts 02184
STATUS:CONFIRMED
SEQUENCE:0
TRANSP:OPAQUE
END:VEVENT
END:VCALENDAR
