BEGIN:VCALENDAR
VERSION:2.0
CALSCALE:GREGORIAN
BEGIN:VEVENT
DTSTAMP:20260420T114914
DTSTART:20260709T180000
DTEND:20260709T193000
SUMMARY:Cool Climate Craft: Pacific Northwest Wines
DESCRIPTION:Event Info: https://www.localwineevents.com/view/event/cool-climate-craft-pacific-northwest-wines/993856
LOCATION:Total Wine  More | Vista Ridge Village -- 2325 S. Stemmons Fwy, Suite 504 Lewisville, Texas 75067
STATUS:CONFIRMED
SEQUENCE:0
TRANSP:OPAQUE
END:VEVENT
END:VCALENDAR
