BEGIN:VCALENDAR
VERSION:2.0
CALSCALE:GREGORIAN
BEGIN:VEVENT
DTSTAMP:20260423T044511
DTSTART:20260711T170000
DTEND:20260711T183000
SUMMARY:Cool Climate Craft: Pacific Northwest Wines
DESCRIPTION:Event Info: https://www.localwineevents.com/view/event/cool-climate-craft-pacific-northwest-wines/993849
LOCATION:Total Wine  More | East Bay Village -- 3938 Horton St, Suite 100 Emeryville, California 94608
STATUS:CONFIRMED
SEQUENCE:0
TRANSP:OPAQUE
END:VEVENT
END:VCALENDAR
