BEGIN:VCALENDAR
VERSION:2.0
CALSCALE:GREGORIAN
BEGIN:VEVENT
DTSTAMP:20260421T131601
DTSTART:20260710T183000
DTEND:20260710T200000
SUMMARY:Cool Climate Craft: Pacific Northwest Wines
DESCRIPTION:Event Info: https://www.localwineevents.com/view/event/cool-climate-craft-pacific-northwest-wines/993827
LOCATION:Total Wine  More | Totowa Square -- 465 US HWY 46 Totowa, New Jersey 07512
STATUS:CONFIRMED
SEQUENCE:0
TRANSP:OPAQUE
END:VEVENT
END:VCALENDAR
