BEGIN:VCALENDAR
VERSION:2.0
CALSCALE:GREGORIAN
BEGIN:VEVENT
DTSTAMP:20260422T165226
DTSTART:20260425T110000
DTEND:20260425T160000
SUMMARY:11th Annual Start On Steiner Spring Into Zin
DESCRIPTION:Event Info: https://www.localwineevents.com/view/event/11th-annual-start-on-steiner-spring-into-zin/992754
LOCATION:Start On Steiner - Amador County\'s First Wine Trail -- Steiner Road Plymouth, CA 95669
STATUS:CONFIRMED
SEQUENCE:0
TRANSP:OPAQUE
END:VEVENT
END:VCALENDAR
