BEGIN:VCALENDAR
VERSION:2.0
CALSCALE:GREGORIAN
BEGIN:VEVENT
DTSTAMP:20260421T042757
DTSTART:20260504T100000
DTEND:20260504T170000
SUMMARY:Sake Server Certification
DESCRIPTION:Event Info: https://www.localwineevents.com/view/event/sake-server-certification/992752
LOCATION:Brooklyn Kura -- 34 34th Street, Inner courtyard Industry City Building 6 Brooklyn, NY 11232
STATUS:CONFIRMED
SEQUENCE:0
TRANSP:OPAQUE
END:VEVENT
END:VCALENDAR
