BEGIN:VCALENDAR
VERSION:2.0
CALSCALE:GREGORIAN
BEGIN:VEVENT
DTSTAMP:20260421T045239
DTSTART:20260420T100000
DTEND:20260427T170000
SUMMARY:Advanced Sake Studies Certification
DESCRIPTION:Event Info: https://www.localwineevents.com/view/event/advanced-sake-studies-certification/992751
LOCATION:Brooklyn Kura -- 34 34th Street, Inner courtyard Industry City Building 6 Brooklyn, NY 11232
STATUS:CONFIRMED
SEQUENCE:0
TRANSP:OPAQUE
END:VEVENT
END:VCALENDAR
