BEGIN:VCALENDAR
VERSION:2.0
CALSCALE:GREGORIAN
BEGIN:VEVENT
DTSTAMP:20260421T083931
DTSTART:20260424T180000
DTEND:20260424T200000
SUMMARY:Live Music: Cookin\' Jazz Quintet @ Vinya
DESCRIPTION:Event Info: https://www.localwineevents.com/view/event/live-music-cookin-jazz-quintet-vinya/992745
LOCATION:Vinya: vino + vinyasa -- 6185 Balboa Avenue San Diego, CA 92111
STATUS:CONFIRMED
SEQUENCE:0
TRANSP:OPAQUE
END:VEVENT
END:VCALENDAR
