BEGIN:VCALENDAR
VERSION:2.0
CALSCALE:GREGORIAN
BEGIN:VEVENT
DTSTAMP:20260421T125214
DTSTART:20260411T180000
DTEND:20260411T200000
SUMMARY:Live Music: Indigo Swing @ Vinya
DESCRIPTION:Event Info: https://www.localwineevents.com/view/event/live-music-indigo-swing-vinya/992743
LOCATION:Vinya: vino + vinyasa -- 6185 Balboa Avenue San Diego, CA 92111
STATUS:CONFIRMED
SEQUENCE:0
TRANSP:OPAQUE
END:VEVENT
END:VCALENDAR
