BEGIN:VCALENDAR
VERSION:2.0
CALSCALE:GREGORIAN
BEGIN:VEVENT
DTSTAMP:20260421T024308
DTSTART:20260424T173000
DTEND:20260426T120000
SUMMARY:Inspire Napa Valley Event To Support Alzheimers And Dementia Research
DESCRIPTION:Event Info: https://www.localwineevents.com/view/event/inspire-napa-valley-event-to-support-alzheimers-and-dementia-research/992721
LOCATION:Louis M. Martini Winery -- 254 South St. Helena Highway Napa, California 94574
STATUS:CONFIRMED
SEQUENCE:0
TRANSP:OPAQUE
END:VEVENT
END:VCALENDAR
