BEGIN:VCALENDAR
VERSION:2.0
CALSCALE:GREGORIAN
BEGIN:VEVENT
DTSTAMP:20260421T145141
DTSTART:20260416T180000
DTEND:20260430T200000
SUMMARY:Wine 101 For Everyone: 3 Week Intensive Course
DESCRIPTION:Event Info: https://www.localwineevents.com/view/event/wine-101-for-everyone-3-week-intensive-course/992719
LOCATION:Bloomsday -- 414 South 2nd Street Philadelphia, PA 19147
STATUS:CONFIRMED
SEQUENCE:0
TRANSP:OPAQUE
END:VEVENT
END:VCALENDAR
