BEGIN:VCALENDAR
VERSION:2.0
CALSCALE:GREGORIAN
BEGIN:VEVENT
DTSTAMP:20260421T024704
DTSTART:20260425T173000
DTEND:20260425T200000
SUMMARY:Inspire Napa Valley Wine Tasting, Reception, Dinner  Auction
DESCRIPTION:Event Info: https://www.localwineevents.com/view/event/inspire-napa-valley-wine-tasting-reception-dinner-auction/992711
LOCATION:Louis Martini Winery -- 254 St Helena Hwy St Helena, California 94574
STATUS:CONFIRMED
SEQUENCE:0
TRANSP:OPAQUE
END:VEVENT
END:VCALENDAR
