BEGIN:VCALENDAR
VERSION:2.0
CALSCALE:GREGORIAN
BEGIN:VEVENT
DTSTAMP:20260421T062147
DTSTART:20260829T120000
DTEND:20260829T170000
SUMMARY:Grapes  Goods Artisan Market + Wine Experience
DESCRIPTION:Event Info: https://www.localwineevents.com/view/event/grapes-goods-artisan-market-wine-experience/992693
LOCATION:The Conservatory at One Sansome -- One Sansome Street San Francisco, CA 94104
STATUS:CONFIRMED
SEQUENCE:0
TRANSP:OPAQUE
END:VEVENT
END:VCALENDAR
