BEGIN:VCALENDAR
VERSION:2.0
CALSCALE:GREGORIAN
BEGIN:VEVENT
DTSTAMP:20260422T201118
DTSTART:20260523T113000
DTEND:20260523T130000
SUMMARY:A Seasonal Divining - Wine Vs Beer-The Great Pairing Debate
DESCRIPTION:Event Info: https://www.localwineevents.com/view/event/a-seasonal-divining---wine-vs-beer-the-great-pairing-debate/992507
LOCATION:Divining -- 7350 Fairplay Road Somerset, CA 95684
STATUS:CONFIRMED
SEQUENCE:0
TRANSP:OPAQUE
END:VEVENT
END:VCALENDAR
