BEGIN:VCALENDAR
VERSION:2.0
CALSCALE:GREGORIAN
BEGIN:VEVENT
DTSTAMP:20260422T201255
DTSTART:20260425T113000
DTEND:20260425T130000
SUMMARY:A Seasonal Divining - One Grape, Many Voices -  The Expressions Zinfandel
DESCRIPTION:Event Info: https://www.localwineevents.com/view/event/a-seasonal-divining---one-grape-many-voices---the-expressions-zinfandel/992451
LOCATION:Divining -- 7350 Fairplay Road Somerset, CA 95684
STATUS:CONFIRMED
SEQUENCE:0
TRANSP:OPAQUE
END:VEVENT
END:VCALENDAR
