BEGIN:VCALENDAR
VERSION:2.0
CALSCALE:GREGORIAN
BEGIN:VEVENT
DTSTAMP:20260421T183314
DTSTART:20260620T170000
DTEND:20260620T185000
SUMMARY:A Cellar-to-Glass Tour Of Tuscany, Rioja  Champagne With Vintus Imports
DESCRIPTION:Event Info: https://www.localwineevents.com/view/event/a-cellar-to-glass-tour-of-tuscany-rioja-champagne-with-vintus-imports/992309
LOCATION:Total Wine  More | Best Buy Plaza -- 9350 N. Central Expressway Dallas, Texas 75231
STATUS:CONFIRMED
SEQUENCE:0
TRANSP:OPAQUE
END:VEVENT
END:VCALENDAR
