BEGIN:VCALENDAR
VERSION:2.0
CALSCALE:GREGORIAN
BEGIN:VEVENT
DTSTAMP:20260421T184510
DTSTART:20260619T183000
DTEND:20260619T201900
SUMMARY:A Cellar-to-Glass Tour Of Tuscany, Rioja  Champagne With Vintus Imports
DESCRIPTION:Event Info: https://www.localwineevents.com/view/event/a-cellar-to-glass-tour-of-tuscany-rioja-champagne-with-vintus-imports/992307
LOCATION:Total Wine  More | The Highlands Shopping Center -- 981 Interstate 20 W. Arlington, Texas 76017
STATUS:CONFIRMED
SEQUENCE:0
TRANSP:OPAQUE
END:VEVENT
END:VCALENDAR
