BEGIN:VCALENDAR
VERSION:2.0
CALSCALE:GREGORIAN
BEGIN:VEVENT
DTSTAMP:20260421T121141
DTSTART:20260612T183000
DTEND:20260612T201100
SUMMARY:A Cellar-to-Glass Tour Of Tuscany, Rioja  Champagne With Vintus Imports
DESCRIPTION:Event Info: https://www.localwineevents.com/view/event/a-cellar-to-glass-tour-of-tuscany-rioja-champagne-with-vintus-imports/992303
LOCATION:Total Wine  More | Celebration Shopping Center -- 32095 Pacific Hwy S Federal Way, Washington 98003
STATUS:CONFIRMED
SEQUENCE:0
TRANSP:OPAQUE
END:VEVENT
END:VCALENDAR
