BEGIN:VCALENDAR
VERSION:2.0
CALSCALE:GREGORIAN
BEGIN:VEVENT
DTSTAMP:20260421T120718
DTSTART:20260515T183000
DTEND:20260515T201000
SUMMARY:A Cellar-to-Glass Tour Of Tuscany, Rioja  Champagne With Vintus Imports
DESCRIPTION:Event Info: https://www.localwineevents.com/view/event/a-cellar-to-glass-tour-of-tuscany-rioja-champagne-with-vintus-imports/992293
LOCATION:Total Wine  More | Westwood Village -- 2501 SW Trenton St Seattle, Washington 98106
STATUS:CONFIRMED
SEQUENCE:0
TRANSP:OPAQUE
END:VEVENT
END:VCALENDAR
