BEGIN:VCALENDAR
VERSION:2.0
CALSCALE:GREGORIAN
BEGIN:VEVENT
DTSTAMP:20260421T183313
DTSTART:20260627T170000
DTEND:20260627T183000
SUMMARY:Bourbon - America\'s Native Spirit
DESCRIPTION:Event Info: https://www.localwineevents.com/view/event/bourbon---americas-native-spirit/992259
LOCATION:Total Wine  More | MacArthur Crossing -- 7730 N. MacArthur Blvd. SuiteA Irving, Texas 75063
STATUS:CONFIRMED
SEQUENCE:0
TRANSP:OPAQUE
END:VEVENT
END:VCALENDAR
