BEGIN:VCALENDAR
VERSION:2.0
CALSCALE:GREGORIAN
BEGIN:VEVENT
DTSTAMP:20260421T131546
DTSTART:20260626T183000
DTEND:20260626T200000
SUMMARY:Bourbon - America\'s Native Spirit
DESCRIPTION:Event Info: https://www.localwineevents.com/view/event/bourbon---americas-native-spirit/992220
LOCATION:Total Wine  More | Totowa Square -- 465 US HWY 46 Totowa, New Jersey 07512
STATUS:CONFIRMED
SEQUENCE:0
TRANSP:OPAQUE
END:VEVENT
END:VCALENDAR
