BEGIN:VCALENDAR
VERSION:2.0
CALSCALE:GREGORIAN
BEGIN:VEVENT
DTSTAMP:20260423T132931
DTSTART:20260627T170000
DTEND:20260627T183000
SUMMARY:Wine Made Simple: A Modern Introduction
DESCRIPTION:Event Info: https://www.localwineevents.com/view/event/wine-made-simple-a-modern-introduction/992201
LOCATION:Total Wine  More | Bridgepointe Shopping Center -- 2250 Bridgepointe Pkwy San Mateo, California 94404
STATUS:CONFIRMED
SEQUENCE:0
TRANSP:OPAQUE
END:VEVENT
END:VCALENDAR
