BEGIN:VCALENDAR
VERSION:2.0
CALSCALE:GREGORIAN
BEGIN:VEVENT
DTSTAMP:20260421T101448
DTSTART:20260509T180000
DTEND:20260509T200000
SUMMARY:The Grape Discovery!
DESCRIPTION:Event Info: https://www.localwineevents.com/view/event/the-grape-discovery/992001
LOCATION:Total Wine  More | Encinitas Ranch Town Center -- 1018 North El Camino Real Encinitas, California 92024
STATUS:CONFIRMED
SEQUENCE:0
TRANSP:OPAQUE
END:VEVENT
END:VCALENDAR
