BEGIN:VCALENDAR
VERSION:2.0
CALSCALE:GREGORIAN
BEGIN:VEVENT
DTSTAMP:20260421T101447
DTSTART:20260606T180000
DTEND:20260606T200000
SUMMARY:Value-able Wines
DESCRIPTION:Event Info: https://www.localwineevents.com/view/event/value-able-wines/991999
LOCATION:Total Wine  More | Encinitas Ranch Town Center -- 1018 North El Camino Real Encinitas, California 92024
STATUS:CONFIRMED
SEQUENCE:0
TRANSP:OPAQUE
END:VEVENT
END:VCALENDAR
