BEGIN:VCALENDAR
VERSION:2.0
CALSCALE:GREGORIAN
BEGIN:VEVENT
DTSTAMP:20260421T080427
DTSTART:20260424T184500
DTEND:20260424T100000
SUMMARY:2026 NC FIne Wines Awards Gala
DESCRIPTION:Event Info: https://www.localwineevents.com/view/event/2026-nc-fine-wines-awards-gala/991966
LOCATION:Millennium Center -- 101 W 5th Street Winston-Salem, NC 27101
STATUS:CONFIRMED
SEQUENCE:0
TRANSP:OPAQUE
END:VEVENT
END:VCALENDAR
