BEGIN:VCALENDAR
VERSION:2.0
CALSCALE:GREGORIAN
BEGIN:VEVENT
DTSTAMP:20260422T144330
DTSTART:20260417T103000
DTEND:20260518T160000
SUMMARY:Wine Tasting Cruise On Historic Lady Patty!
DESCRIPTION:Event Info: https://www.localwineevents.com/view/event/wine-tasting-cruise-on-historic-lady-patty/991801
LOCATION:St. Michaels Sailing Charters -- 101 North Harbor Road St. Michaels, Maryland 21663
STATUS:CONFIRMED
SEQUENCE:0
TRANSP:OPAQUE
END:VEVENT
END:VCALENDAR
