BEGIN:VCALENDAR
VERSION:2.0
CALSCALE:GREGORIAN
BEGIN:VEVENT
DTSTAMP:20260422T143848
DTSTART:20260722T103000
DTEND:20260822T160000
SUMMARY:St. Michaels Wine Tasting Cruise!
DESCRIPTION:Event Info: https://www.localwineevents.com/view/event/st-michaels-wine-tasting-cruise/991797
LOCATION:St. Michaels Sailing Charters -- 101 North Harbor Road St. Michaels, Maryland 21663
STATUS:CONFIRMED
SEQUENCE:0
TRANSP:OPAQUE
END:VEVENT
END:VCALENDAR
