BEGIN:VCALENDAR
VERSION:2.0
CALSCALE:GREGORIAN
BEGIN:VEVENT
DTSTAMP:20260420T050821
DTSTART:20260411T120000
DTEND:20260411T150000
SUMMARY:April In Paris At Beaulieu Vineyard
DESCRIPTION:Event Info: https://www.localwineevents.com/view/event/april-in-paris-at-beaulieu-vineyard/991764
LOCATION:Beaulieu Vineyard -- 1960 St. Helena Hwy Rutherford, CA 94573
STATUS:CONFIRMED
SEQUENCE:0
TRANSP:OPAQUE
END:VEVENT
END:VCALENDAR
