BEGIN:VCALENDAR
VERSION:2.0
CALSCALE:GREGORIAN
BEGIN:VEVENT
DTSTAMP:20260421T163956
DTSTART:20260502T130000
DTEND:20260502T160000
SUMMARY:Aligot Affair
DESCRIPTION:Event Info: https://www.localwineevents.com/view/event/aligot-affair/991763
LOCATION:Balsall Creek Vineyards -- 18430 Northeast Calkins Lane Newberg, OR 97132
STATUS:CONFIRMED
SEQUENCE:0
TRANSP:OPAQUE
END:VEVENT
END:VCALENDAR
