BEGIN:VCALENDAR
VERSION:2.0
CALSCALE:GREGORIAN
BEGIN:VEVENT
DTSTAMP:20260420T174805
DTSTART:20260620T120000
DTEND:20260620T200000
SUMMARY:The Wine Cup 2026
DESCRIPTION:Event Info: https://www.localwineevents.com/view/event/the-wine-cup-2026/991754
LOCATION:Philadelphia Navy Yard -- 4701 Intrepid Ave Philadelphia, PA 19112
STATUS:CONFIRMED
SEQUENCE:0
TRANSP:OPAQUE
END:VEVENT
END:VCALENDAR
