BEGIN:VCALENDAR
VERSION:2.0
CALSCALE:GREGORIAN
BEGIN:VEVENT
DTSTAMP:20260420T115342
DTSTART:20260622T180000
DTEND:20260622T193000
SUMMARY:Exploring Wine Series: Unique Italian Grapes
DESCRIPTION:Event Info: https://www.localwineevents.com/view/event/exploring-wine-series-unique-italian-grapes/991747
LOCATION:The Ruby Tap (Tosa) -- 1341 North Wauwatosa Avenue Wauwatosa, WI 53213
STATUS:CONFIRMED
SEQUENCE:0
TRANSP:OPAQUE
END:VEVENT
END:VCALENDAR
