BEGIN:VCALENDAR
VERSION:2.0
CALSCALE:GREGORIAN
BEGIN:VEVENT
DTSTAMP:20260420T115343
DTSTART:20260623T180000
DTEND:20260623T193000
SUMMARY:Exploring Wine Series: Unique Italian Grapes
DESCRIPTION:Event Info: https://www.localwineevents.com/view/event/exploring-wine-series-unique-italian-grapes/991745
LOCATION:The Ruby Tap (Mequon) -- 6000 W Mequon Rd Mequon, WI 53092
STATUS:CONFIRMED
SEQUENCE:0
TRANSP:OPAQUE
END:VEVENT
END:VCALENDAR
