BEGIN:VCALENDAR
VERSION:2.0
CALSCALE:GREGORIAN
BEGIN:VEVENT
DTSTAMP:20260420T120241
DTSTART:20260531T160000
DTEND:20260531T180000
SUMMARY:9th Annual Ros, Bubbles And Summer Whites Tasting
DESCRIPTION:Event Info: https://www.localwineevents.com/view/event/9th-annual-ros-bubbles-and-summer-whites-tasting/991744
LOCATION:The Ruby Tap (Mequon) -- 6000 W Mequon Rd Mequon, WI 53092
STATUS:CONFIRMED
SEQUENCE:0
TRANSP:OPAQUE
END:VEVENT
END:VCALENDAR
