BEGIN:VCALENDAR
VERSION:2.0
CALSCALE:GREGORIAN
BEGIN:VEVENT
DTSTAMP:20260420T115341
DTSTART:20260519T180000
DTEND:20260519T193000
SUMMARY:Exploring Wine Series: Spring Sippers
DESCRIPTION:Event Info: https://www.localwineevents.com/view/event/exploring-wine-series-spring-sippers/991738
LOCATION:The Ruby Tap (Mequon) -- 6000 W Mequon Rd Mequon, WI 53092
STATUS:CONFIRMED
SEQUENCE:0
TRANSP:OPAQUE
END:VEVENT
END:VCALENDAR
