BEGIN:VCALENDAR
VERSION:2.0
CALSCALE:GREGORIAN
BEGIN:VEVENT
DTSTAMP:20260420T120247
DTSTART:20260513T180000
DTEND:20260513T193000
SUMMARY:Tulips And Tastes With Aromatic Acres
DESCRIPTION:Event Info: https://www.localwineevents.com/view/event/tulips-and-tastes-with-aromatic-acres/991737
LOCATION:The Ruby Tap (Mequon) -- 6000 W Mequon Rd Mequon, WI 53092
STATUS:CONFIRMED
SEQUENCE:0
TRANSP:OPAQUE
END:VEVENT
END:VCALENDAR
