BEGIN:VCALENDAR
VERSION:2.0
CALSCALE:GREGORIAN
BEGIN:VEVENT
DTSTAMP:20260420T120241
DTSTART:20260421T180000
DTEND:20260421T193000
SUMMARY:Exploring Wine Series: Blind Tasting
DESCRIPTION:Event Info: https://www.localwineevents.com/view/event/exploring-wine-series-blind-tasting/991734
LOCATION:The Ruby Tap (Mequon) -- 6000 W Mequon Rd Mequon, WI 53092
STATUS:CONFIRMED
SEQUENCE:0
TRANSP:OPAQUE
END:VEVENT
END:VCALENDAR
