BEGIN:VCALENDAR
VERSION:2.0
CALSCALE:GREGORIAN
BEGIN:VEVENT
DTSTAMP:20260420T045449
DTSTART:20260513T180000
DTEND:20260513T193000
SUMMARY:Sip  Create: Olive Oil Bottle Painting
DESCRIPTION:Event Info: https://www.localwineevents.com/view/event/sip-create-olive-oil-bottle-painting/991732
LOCATION:Waterford Wine  Spirits -- 631 Genesee St Delafield, WI 53018
STATUS:CONFIRMED
SEQUENCE:0
TRANSP:OPAQUE
END:VEVENT
END:VCALENDAR
