BEGIN:VCALENDAR
VERSION:2.0
CALSCALE:GREGORIAN
BEGIN:VEVENT
DTSTAMP:20260421T013148
DTSTART:20260502T120000
DTEND:20260502T150000
SUMMARY:Chateauneuf Du Pape And Saxum Lunch - 6 Chateauneuf And 6 Saxum
DESCRIPTION:Event Info: https://www.localwineevents.com/view/event/chateauneuf-du-pape-and-saxum-lunch---6-chateauneuf-and-6-saxum/991708
LOCATION:Somms Kitchen -- 849 13th Street Paso Robles, CA 93446
STATUS:CONFIRMED
SEQUENCE:0
TRANSP:OPAQUE
END:VEVENT
END:VCALENDAR
