BEGIN:VCALENDAR
VERSION:2.0
CALSCALE:GREGORIAN
BEGIN:VEVENT
DTSTAMP:20260421T011920
DTSTART:20260425T110000
DTEND:20260425T123000
SUMMARY:Vintage Wisdom
DESCRIPTION:Event Info: https://www.localwineevents.com/view/event/vintage-wisdom/991706
LOCATION:L\'Aventure Winery -- 2815 Live Oak Road Paso Robles, CA 93446
STATUS:CONFIRMED
SEQUENCE:0
TRANSP:OPAQUE
END:VEVENT
END:VCALENDAR
