BEGIN:VCALENDAR
VERSION:2.0
CALSCALE:GREGORIAN
BEGIN:VEVENT
DTSTAMP:20260421T012033
DTSTART:20260424T150000
DTEND:20260424T180000
SUMMARY:Songs Spring Release Event
DESCRIPTION:Event Info: https://www.localwineevents.com/view/event/songs-spring-release-event/991704
LOCATION:Bodega de Edgar -- 3860 Peachy Canyon Rd Paso Robles, CA 93446
STATUS:CONFIRMED
SEQUENCE:0
TRANSP:OPAQUE
END:VEVENT
END:VCALENDAR
