BEGIN:VCALENDAR
VERSION:2.0
CALSCALE:GREGORIAN
BEGIN:VEVENT
DTSTAMP:20260421T013148
DTSTART:20260425T110000
DTEND:20260425T140000
SUMMARY:Spring Release: Homage To Spain At Bodega De Edgar
DESCRIPTION:Event Info: https://www.localwineevents.com/view/event/spring-release-homage-to-spain-at-bodega-de-edgar/991703
LOCATION:Bodega de Edgar -- 3550 Combine St Paso Robles, CA 93446
STATUS:CONFIRMED
SEQUENCE:0
TRANSP:OPAQUE
END:VEVENT
END:VCALENDAR
