BEGIN:VCALENDAR
VERSION:2.0
CALSCALE:GREGORIAN
BEGIN:VEVENT
DTSTAMP:20260421T011858
DTSTART:20260422T180000
DTEND:20260422T210000
SUMMARY:Earth Day Event
DESCRIPTION:Event Info: https://www.localwineevents.com/view/event/earth-day-event/991702
LOCATION:Booker Vineyard -- 2644 Anderson Rd Paso Robles, ca 93446
STATUS:CONFIRMED
SEQUENCE:0
TRANSP:OPAQUE
END:VEVENT
END:VCALENDAR
