BEGIN:VCALENDAR
VERSION:2.0
CALSCALE:GREGORIAN
BEGIN:VEVENT
DTSTAMP:20260421T011957
DTSTART:20260426T133000
DTEND:20260426T153000
SUMMARY:2026 Blending Seminar
DESCRIPTION:Event Info: https://www.localwineevents.com/view/event/2026-blending-seminar/991701
LOCATION:Tablas Creek Vineyard -- 9339 Adelaida Road Paso Robles, CA 93446
STATUS:CONFIRMED
SEQUENCE:0
TRANSP:OPAQUE
END:VEVENT
END:VCALENDAR
