BEGIN:VCALENDAR
VERSION:2.0
CALSCALE:GREGORIAN
BEGIN:VEVENT
DTSTAMP:20260421T013311
DTSTART:20260426T110000
DTEND:20260426T170000
SUMMARY:Relive The 90s Scholastic Book Fair - With Wine!
DESCRIPTION:Event Info: https://www.localwineevents.com/view/event/relive-the-90s-scholastic-book-fair---with-wine/991700
LOCATION:McPrice Myers Wines -- 3525 Adelaida Road Paso Robles, CA 93446
STATUS:CONFIRMED
SEQUENCE:0
TRANSP:OPAQUE
END:VEVENT
END:VCALENDAR
